BEGIN:VCALENDAR
VERSION:2.0
PRODID:-//Iona Community - ECPv6.15.16//NONSGML v1.0//EN
CALSCALE:GREGORIAN
METHOD:PUBLISH
X-WR-CALNAME:Iona Community
X-ORIGINAL-URL:https://iona.org.uk
X-WR-CALDESC:Events for Iona Community
REFRESH-INTERVAL;VALUE=DURATION:PT1H
X-Robots-Tag:noindex
X-PUBLISHED-TTL:PT1H
BEGIN:VTIMEZONE
TZID:UTC
BEGIN:STANDARD
TZOFFSETFROM:+0000
TZOFFSETTO:+0000
TZNAME:UTC
DTSTART:20240101T000000
END:STANDARD
END:VTIMEZONE
BEGIN:VEVENT
DTSTART;TZID=UTC:20251004T150000
DTEND;TZID=UTC:20251010T090000
DTSTAMP:20260423T070635
CREATED:20240801T143432Z
LAST-MODIFIED:20250903T134620Z
UID:10797-1759590000-1760086800@iona.org.uk
SUMMARY:Faith and Friendships (3 night stay also available)
DESCRIPTION:[vc_row][vc_column][vc_column_text] Faith and Friendships: driving positive change in challenging times: 4th – 10th October 2025 \nWe live in an increasingly polarised world with very few opportunities to get away and spend meaningful time with people of different backgrounds to our own. This Faith & Friendship week is for those who are\, or who would like to be\, engaged with communities\, bringing people together across difference and seeking to nurture and implement values related to peace\, justice\, and compassionate leadership. \nGathering with individuals of diverse faiths and backgrounds\, this week will be rooted in lived experiences. We will develop practical skills\, have opportunities to listen and share wisdom\, renew our confidence and build new connections. Together we will explore the theme in practical\, creative and interactive ways. \nThree night stays now also available for this week\, from 4th – 7th October or from 7th – 10th October. However\, due to the nature of the programme\, those staying for three nights won’t be able to attend the Faith and Friendships – thank you for your understanding. \nProgramme leaders    \n\nWahida Shaffi has over 20 years’ experience working with diverse communities from across the UK. She is a qualified chaplain\, social worker\, vocational assessor and trainer\, and author of the book Our Stories Our Lives: Inspiring Muslim Women’s Voices. She completed her MA in international politics at the University of Bradford’s Department of Peace Studies.  \n  \nChristy Bischoff is a storyteller and community facilitator with over 15 years’ experience supporting refugees in Bradford. Her work centers on healing\, resilience\, and connection—shaped by personal experiences with cancer in her family. She leads workshops on recovery\, community arts\, and collective wellbeing\, and holds an MA and MPhil in Conflict Resolution from the University of Bradford. \n  \n  \n  \nCosts \n6 Nights: £846.00 per adult\, £423.00 for reduced rate – see our programme page for more information.[/vc_column_text][/vc_column][/vc_row][vc_row][vc_column][vc_btn title=”BOOK HERE” style=”custom” custom_background=”#568ea4″ custom_text=”#eae8e8″ link=”url:https%3A%2F%2Fportal.freetobook.com%2Freservations%3Fw_id%3D43736%26w_tkn%3DZ8ayvaEvw2SsrbCpGHLzeQZxQGqxQJy163aSHXVJnHbgCb53vffml4WKihlt5%26checkIn%3D2025-10-04%26stayLength%3D6″][/vc_column][/vc_row][vc_row][vc_column][/vc_column][/vc_row]\n\n			\n\n			\n\n			\n			\n			\n			3 Nights: 4th - 7th Book Here\n\n			\n			\n			or\n			\n\n			\n\n			\n			\n			3 Nights: 7th -10th Book Here\n\n			\n			\n			\n			\n			[/vc_column][/vc_row][vc_row][vc_column][/vc_column][/vc_row][vc_row][vc_column][vc_column_text][/vc_column_text][/vc_column][/vc_row][vc_row][vc_column][/vc_column][/vc_row][vc_row][vc_column][/vc_column][/vc_row][vc_row][vc_column][/vc_column][/vc_row]
URL:https://iona.org.uk/event/faith-and-friendship/
LOCATION:Iona Abbey Centre\, Isle of Iona\, United Kingdom
CATEGORIES:Iona Abbey Programme 2025
ATTACH;FMTTYPE=image/png:https://iona.org.uk/wp-content/uploads/2024/07/Faith-Friendships.png
END:VEVENT
END:VCALENDAR