BEGIN:VCALENDAR
VERSION:2.0
PRODID:-//Iona Community - ECPv6.15.16//NONSGML v1.0//EN
CALSCALE:GREGORIAN
METHOD:PUBLISH
X-ORIGINAL-URL:https://iona.org.uk
X-WR-CALDESC:Events for Iona Community
REFRESH-INTERVAL;VALUE=DURATION:PT1H
X-Robots-Tag:noindex
X-PUBLISHED-TTL:PT1H
BEGIN:VTIMEZONE
TZID:UTC
BEGIN:STANDARD
TZOFFSETFROM:+0000
TZOFFSETTO:+0000
TZNAME:UTC
DTSTART:20240101T000000
END:STANDARD
END:VTIMEZONE
BEGIN:VEVENT
DTSTART;TZID=UTC:20251109T150000
DTEND;TZID=UTC:20251109T170000
DTSTAMP:20260423T021138
CREATED:20250911T115708Z
LAST-MODIFIED:20251030T111020Z
UID:44661-1762700400-1762707600@iona.org.uk
SUMMARY:Second Sunday Sing
DESCRIPTION:[vc_row][vc_column][vc_column_text css=””]\nThis month we’re singing in protest!\nJoin Iain and Jane to sing through some Wild Goose Resource Group favourites and learn new songs from around the world. \nRefreshments will be provided and we’ll close with a short time of worship. \nGorbals Parish Church\, 1 Errol Gardens\, Glasgow\, G5 0RA (please note this event is not available online).[/vc_column_text][vc_column_text css=””]No need to register. You’re welcome to just turn up at Gorbals Parish Church on the day.[/vc_column_text][/vc_column][/vc_row][vc_row][vc_column][/vc_column][/vc_row]
URL:https://iona.org.uk/event/second-sunday-sing-9-11-25/
LOCATION:Gorbals Parish Church\, 1 Errol Gardens\, Glasgow\, G5 ORA\, United Kingdom
CATEGORIES:Wild Goose Resource Group
ATTACH;FMTTYPE=image/png:https://iona.org.uk/wp-content/uploads/2025/09/November-SSS.png
END:VEVENT
END:VCALENDAR