BEGIN:VCALENDAR
VERSION:2.0
PRODID:-//Iona Community - ECPv6.15.16//NONSGML v1.0//EN
CALSCALE:GREGORIAN
METHOD:PUBLISH
X-ORIGINAL-URL:https://iona.org.uk
X-WR-CALDESC:Events for Iona Community
REFRESH-INTERVAL;VALUE=DURATION:PT1H
X-Robots-Tag:noindex
X-PUBLISHED-TTL:PT1H
BEGIN:VTIMEZONE
TZID:UTC
BEGIN:STANDARD
TZOFFSETFROM:+0000
TZOFFSETTO:+0000
TZNAME:UTC
DTSTART:20240101T000000
END:STANDARD
END:VTIMEZONE
BEGIN:VEVENT
DTSTART;TZID=UTC:20251110T150000
DTEND;TZID=UTC:20251114T090000
DTSTAMP:20260423T021144
CREATED:20240801T144518Z
LAST-MODIFIED:20250908T101408Z
UID:10684-1762786800-1763110800@iona.org.uk
SUMMARY:Stillness in Community (Mon-Thu\, 4 nights) Fully Booked
DESCRIPTION:[vc_row][vc_column][vc_column_text]\n\nStillness in Community: 10th – 14th November 2025 \nDo you need some time to think and not think? Do you wonder how you might practice stillness before God?  \n\nDuring the Stillness in Community Weeks\, each guest will have their own room\, offering a peaceful space for personal reflection and quiet contemplation. \nOur Stillness Weeks do not include programmed sessions.  \nBut you‘ll have the opportunity to:  \n\nenjoy the wild and rugged scenery \n\n\nenjoy creative art opportunities \n\n\ntake part in daily worship \n\n\nwork with other guests on shared tasks \n\n\nshare tasty meals from the Iona Abbey Kitchen \n\n This is not a completely silent week\, but a time for stillness and reflection.  \nCosts \n\n\n4 Nights: £416.00 per adult\, £208.00 for reduced rate – see our programme page for more information.[/vc_column_text][/vc_column][/vc_row][vc_row][vc_column][vc_btn title=”BOOK HERE” style=”custom” custom_background=”#568ea4″ custom_text=”#eae8e8″ link=”url:https%3A%2F%2Fportal.freetobook.com%2Freservations%3Fw_id%3D43736%26w_tkn%3DZ8ayvaEvw2SsrbCpGHLzeQZxQGqxQJy163aSHXVJnHbgCb53vffml4WKihlt5%26checkIn%3D2025-11-10%26stayLength%3D4″][vc_btn title=”Essential Booking Information” style=”custom” custom_background=”#568ea4″ custom_text=”#eae8e8″ link=”url:https%3A%2F%2Fiona.org.uk%2Fvisit-and-stay%2Fiona-abbey-essential-booking-information-2025%2F” el_class=”tealoutlinebtn generalbtn rightbtn”][/vc_column][/vc_row]
URL:https://iona.org.uk/event/stillness-in-community-6/
LOCATION:Iona Abbey Centre\, Isle of Iona\, United Kingdom
CATEGORIES:Iona Abbey Programme 2025
ATTACH;FMTTYPE=image/png:https://iona.org.uk/wp-content/uploads/2024/10/Stillness-in-Community-10-14-Nov-3.png
END:VEVENT
END:VCALENDAR