BEGIN:VCALENDAR
VERSION:2.0
PRODID:-//Iona Community - ECPv6.15.16//NONSGML v1.0//EN
CALSCALE:GREGORIAN
METHOD:PUBLISH
X-WR-CALNAME:Iona Community
X-ORIGINAL-URL:https://iona.org.uk
X-WR-CALDESC:Events for Iona Community
REFRESH-INTERVAL;VALUE=DURATION:PT1H
X-Robots-Tag:noindex
X-PUBLISHED-TTL:PT1H
BEGIN:VTIMEZONE
TZID:UTC
BEGIN:STANDARD
TZOFFSETFROM:+0000
TZOFFSETTO:+0000
TZNAME:UTC
DTSTART:20250101T000000
END:STANDARD
END:VTIMEZONE
BEGIN:VEVENT
DTSTART;TZID=UTC:20261024T150000
DTEND;TZID=UTC:20261030T090000
DTSTAMP:20260423T103201
CREATED:20250501T100958Z
LAST-MODIFIED:20260320T115111Z
UID:38381-1792854000-1793350800@iona.org.uk
SUMMARY:Contemplation in Community - with Stephen Wright (1 place available)
DESCRIPTION:[vc_row][vc_column][vc_column_text css=””]Contemplation in Community – with Stephen Wright \n\n\nWe invite you to join us for this special week of contemplation in community. This week is led by Stephen Wright a member of the Iona Community. It is intended for those who are comfortable with deep spiritual inquiry and ready to go deeper along that particular Way known as contemplation. Stephen will offer an insight into the Heartfulness nature of contemplation\, how to be open to it\, and how to live the contemplative Way in all the gifts and challenges of our everyday lives. \nOur time here will centre around an intensive engagement with contemplative practices. There will be daily periods of group work\, reflection and conversation\, combined with long periods of solitude\, silence and stillness. Both will aid the inner prayerful and reflective journey that supports our longing for relationship in the One in whom ‘we live and move and have our being’. \nWe will be further nurtured by the sacred presence of Iona Abbey and its community\, the elemental beauty of this special island and its long history of attentiveness to the sacred. \nThere will also be moments of grounding our insights by helping with the everyday tasks of living in community. The deep inner life does not have to be separate from the outer. \nShared expectations and practicalities\nMost meals and interim activities will be taken in quiet\, but there will be opportunities\, for those who wish\, to enjoy social time and conversation.  \nAccommodation will be offered as single occupancy rooms at Iona Abbey. Private time is an essential component of this programme. However\, we can offer room sharing if you wish to bring a close friend or partner also wishing to join the course. \n\n\nFacilitator\nLed by Stephen Wright\, this programme will draw upon the collaborative work of the Sacred Space Foundation and the Diocese of Carlisle in the St. Kentigern School and Community for Contemplatives. Stephen is a Member of the Iona Community\, a director of the Sacred Space Foundation\, an ordained Interfaith minister and spiritual director. \nYou can listen to Stephen’s Heartfulness webinar\, given to the Iona Community in May 2022\, here: \n \nCosts \n6 Nights: £870 or £435 concession[/vc_column_text][/vc_column][/vc_row][vc_row][vc_column][vc_btn title=”Book Here” style=”custom” custom_text=”#666666″ css=”” link=”url:https%3A%2F%2Fportal.freetobook.com%2Freservations%3Fw_id%3D43736%26w_tkn%3DZ8ayvaEvw2SsrbCpGHLzeQZxQGqxQJy163aSHXVJnHbgCb53vffml4WKihlt5%26checkIn%3D2026-10-24%26stayLength%3D6|target:_blank” el_class=”tealbtn generalbtn”][vc_btn title=”Essential Booking Information” style=”custom” custom_text=”#666666″ css=”” link=”url:https%3A%2F%2Fiona.org.uk%2Fvisit-and-stay%2Fiona-abbey-essential-booking-information-2026%2F|target:_blank” el_class=”tealoutlinebtn generalbtn rightbtn”][/vc_column][/vc_row][vc_row][/vc_row][vc_column][/vc_column]
URL:https://iona.org.uk/event/contemplation-in-community-2026/
LOCATION:Iona Abbey Centre\, Isle of Iona\, United Kingdom
CATEGORIES:Iona Abbey Programme 2026
ATTACH;FMTTYPE=image/png:https://iona.org.uk/wp-content/uploads/2025/08/FB-Contemplation-in-Community.png
END:VEVENT
END:VCALENDAR