BEGIN:VCALENDAR
VERSION:2.0
PRODID:-//Iona Community - ECPv6.15.16//NONSGML v1.0//EN
CALSCALE:GREGORIAN
METHOD:PUBLISH
X-ORIGINAL-URL:https://iona.org.uk
X-WR-CALDESC:Events for Iona Community
REFRESH-INTERVAL;VALUE=DURATION:PT1H
X-Robots-Tag:noindex
X-PUBLISHED-TTL:PT1H
BEGIN:VTIMEZONE
TZID:UTC
BEGIN:STANDARD
TZOFFSETFROM:+0000
TZOFFSETTO:+0000
TZNAME:UTC
DTSTART:20240101T000000
END:STANDARD
END:VTIMEZONE
BEGIN:VEVENT
DTSTART;TZID=UTC:20250830T160000
DTEND;TZID=UTC:20250905T090000
DTSTAMP:20260421T140322
CREATED:20240801T142730Z
LAST-MODIFIED:20250630T153107Z
UID:9871-1756569600-1757062800@iona.org.uk
SUMMARY:Reading the Bible as Earth People - Brian McLaren (FULLY BOOKED)
DESCRIPTION:[vc_row][vc_column][vc_column_text]\nReading the Bible as Earth People: 30 August – 5 September 2025  \nIf you’re like most people\, you’ve been taught the Bible from the perspective of colonisers. What would it mean to rediscover the Bible as a guide to helping people resist death-dealing civilisations?  \nWhat better place than Iona to rediscover the Bible as an ecological and indigenous text? Where better to find wisdom and courage when it feels like the world is falling apart?  \nThe natural beauty of Iona will set the backdrop for rediscovering the Bible as “people of red Earth” (the meaning of Adam in Genesis). Brian will offer high-altitude overviews\, close readings of key texts\, and ample opportunity for in-depth conversation. If you’re a pastor\, priest\, or other spiritual leader\, the sessions will help you professionally. If you breathe Earth’s air\, drink her water\, eat of her bounty\, and enjoy her beauty\, this week will equip you as a contemplative activist and lifelong member of Team Earth going forward.  \nProgramme leader: \nThis week will be facilitated by Brian McLaren: author\, former pastor\, activist\, and teacher with the Center for Action and Contemplation. You can view Brian’s website here. \n  \n  \n  \n\nCosts\n6 Nights: £846.00 per adult\, £423.00 for reduced rate – see our programme page for more information.[/vc_column_text][/vc_column][/vc_row][vc_row][vc_column][vc_btn title=”BOOK HERE” style=”custom” custom_background=”#568ea4″ custom_text=”#eae8e8″ link=”url:https%3A%2F%2Fportal.freetobook.com%2Freservations%3Fw_id%3D43736%26w_tkn%3DZ8ayvaEvw2SsrbCpGHLzeQZxQGqxQJy163aSHXVJnHbgCb53vffml4WKihlt5%26checkIn%3D2025-08-30%26stayLength%3D6″][/vc_column][/vc_row]
URL:https://iona.org.uk/event/reading-the-bible-as-earth-people-brian-mclaren/
LOCATION:Iona Abbey Centre\, Isle of Iona\, United Kingdom
CATEGORIES:Iona Abbey Programme 2025
ATTACH;FMTTYPE=image/png:https://iona.org.uk/wp-content/uploads/2024/08/3-4.png
END:VEVENT
END:VCALENDAR