BEGIN:VCALENDAR
VERSION:2.0
PRODID:-//Iona Community - ECPv6.15.16//NONSGML v1.0//EN
CALSCALE:GREGORIAN
METHOD:PUBLISH
X-ORIGINAL-URL:https://iona.org.uk
X-WR-CALDESC:Events for Iona Community
REFRESH-INTERVAL;VALUE=DURATION:PT1H
X-Robots-Tag:noindex
X-PUBLISHED-TTL:PT1H
BEGIN:VTIMEZONE
TZID:UTC
BEGIN:STANDARD
TZOFFSETFROM:+0000
TZOFFSETTO:+0000
TZNAME:UTC
DTSTART:20240101T000000
END:STANDARD
END:VTIMEZONE
BEGIN:VEVENT
DTSTART;TZID=UTC:20250927T150000
DTEND;TZID=UTC:20251003T090000
DTSTAMP:20260419T123353
CREATED:20240801T143341Z
LAST-MODIFIED:20250924T150431Z
UID:10789-1758985200-1759482000@iona.org.uk
SUMMARY:Odd women and even odder men - John Bell (FULLY BOOKED)
DESCRIPTION:[vc_row][vc_column][vc_column_text] Odd women and even odder men – John Bell: 27th September – 3rd October – FULLY BOOKED \n(WAITING LIST: please contact ionaabbeybookings@iona.org.uk to add your name.) \nInfanticide encouraged by a bald man\, a king humiliated by a female protestor\, a poem about trees to undermine tyranny\, and wild honey past its sell-by date. It’s all in the Bible\, where minor figures become heroes and the big noises are silenced. We explore hidden gems and unlikely saviours.  \nIn early decades\, the News of the World advertised itself with the strap-line ‘All human life is here’. The same could or should be said of the Bible\, but for many people of faith and on the fringes of faith\, it is a largely unexplored book. We know who the names of the ‘greats’ -Abraham\, Moses\, David\, Jesus\, Paul. But the lesser luminaries have much to offer\, especially in the Hebrew Scriptures which abound in mini-biographies which are seldom explored.  \nJohn Bell has had a long and deep fascination with the Bible\, especially the people and incidents which do not appear in the Sunday readings. These lesser known texts humanise the scriptures and turn black and white into technicolour. And many of these will be up for exploration in this week at Iona Abbey. \nProgramme leader \n\n\n \n\nJohn Bell is an ordained minister\, a member of the Iona Community and a writer and occasional broadcaster. He is a much-loved contributor at Greenbelt Festival. He teaches and lectures worldwide on issues of faith\, social justice\, music and liturgy. \n\n  \n  \n\nCosts \n\n6 Nights: £846.00 per adult\, £423.00 for reduced rate – see our programme page for more information.[/vc_column_text][/vc_column][/vc_row][vc_row][vc_column][vc_btn title=”BOOK HERE” style=”custom” custom_background=”#568ea4″ custom_text=”#eae8e8″ link=”url:https%3A%2F%2Fportal.freetobook.com%2Freservations%3Fw_id%3D43736%26w_tkn%3DZ8ayvaEvw2SsrbCpGHLzeQZxQGqxQJy163aSHXVJnHbgCb53vffml4WKihlt5%26checkIn%3D2025-09-27%26stayLength%3D6″][/vc_column][/vc_row][vc_row][vc_column][/vc_column][/vc_row]
URL:https://iona.org.uk/event/odd-women/
LOCATION:Iona Abbey Centre\, Isle of Iona\, United Kingdom
CATEGORIES:Iona Abbey Programme 2025
ATTACH;FMTTYPE=image/png:https://iona.org.uk/wp-content/uploads/2024/10/John-Bell-Odd-Women-and-Odder-Men-1.png
END:VEVENT
END:VCALENDAR