BEGIN:VCALENDAR
VERSION:2.0
PRODID:-//Iona Community - ECPv6.15.16//NONSGML v1.0//EN
CALSCALE:GREGORIAN
METHOD:PUBLISH
X-ORIGINAL-URL:https://iona.org.uk
X-WR-CALDESC:Events for Iona Community
REFRESH-INTERVAL;VALUE=DURATION:PT1H
X-Robots-Tag:noindex
X-PUBLISHED-TTL:PT1H
BEGIN:VTIMEZONE
TZID:UTC
BEGIN:STANDARD
TZOFFSETFROM:+0000
TZOFFSETTO:+0000
TZNAME:UTC
DTSTART:20240101T000000
END:STANDARD
END:VTIMEZONE
BEGIN:VEVENT
DTSTART;TZID=UTC:20250315T160000
DTEND;TZID=UTC:20250321T090000
DTSTAMP:20260425T111635
CREATED:20240801T114203Z
LAST-MODIFIED:20250312T180221Z
UID:9513-1742054400-1742547600@iona.org.uk
SUMMARY:Time and Space 3 or 6 Nights (limited availability)
DESCRIPTION:[vc_row][vc_column][vc_column_text]\n\nTime and Space 6 or 3 night stays from 15th to 21st March 2025.\n3 night stays begin on Saturday 15th or Tuesday 18th. \nDo you need some time and space in your busy life? Come to the Abbey.   \n Our Time and Space weeks offer just enough structure and community for you to rest and reconnect. Join us in the ‘thin place’ between heaven and earth and be part of the rhythm of work and worship that frames life at the Abbey.  \nYou ‘ll have the opportunity to:  \n\nenjoy the wild and rugged scenery \n\n\njoin our weekly pilgrimage\n\n\nparticipate guided reflection and small group conversations \n\n\ncreatively explore issues of concern such as inclusion\, ecological justice and peace \n\n\nenjoy creative art opportunities \n\n\ntake part in daily worship \n\n\nwork with other guests on shared tasks \nshare tasty meals from the Iona Abbey Kitchen \n\n\n6 Nights: £846 or £423 concession \n3 Nights: £423 or £211.50 concession – see our programme page for more information.[/vc_column_text][/vc_column][/vc_row][vc_row][vc_column][vc_btn title=”6 Nights: 15th – 21st Book Here” style=”custom” custom_text=”#666666″ link=”url:https%3A%2F%2Fportal.freetobook.com%2Freservations%3Fw_id%3D43736%26w_tkn%3DZ8ayvaEvw2SsrbCpGHLzeQZxQGqxQJy163aSHXVJnHbgCb53vffml4WKihlt5%26checkIn%3D2025-03-15%26stayLength%3D6″ el_class=”tealbtn generalbtn”]\n			\n\n			\n\n			\n			\n			\n			3 Nights: 15th - 18th Book Here\n\n			\n			\n			or\n			\n\n			\n\n			\n			\n			3 Nights: 18th - 21st Book Here\n\n			\n			\n			\n			\n			[/vc_column][/vc_row][vc_row][vc_column][/vc_column][/vc_row][vc_row][vc_column][vc_column_text][/vc_column_text][/vc_column][/vc_row][vc_row][vc_column][/vc_column][/vc_row][vc_row][vc_column][/vc_column][/vc_row][vc_row][vc_column][/vc_column][/vc_row]
URL:https://iona.org.uk/event/time-and-space-march2025/
LOCATION:Iona Abbey Centre\, Isle of Iona\, United Kingdom
CATEGORIES:Iona Abbey Programme 2025,Spring 2026 Iona Abbey Programme
ATTACH;FMTTYPE=image/png:https://iona.org.uk/wp-content/uploads/2024/08/2-7.png
END:VEVENT
END:VCALENDAR