BEGIN:VCALENDAR
VERSION:2.0
PRODID:-//Iona Community - ECPv6.15.16//NONSGML v1.0//EN
CALSCALE:GREGORIAN
METHOD:PUBLISH
X-ORIGINAL-URL:https://iona.org.uk
X-WR-CALDESC:Events for Iona Community
REFRESH-INTERVAL;VALUE=DURATION:PT1H
X-Robots-Tag:noindex
X-PUBLISHED-TTL:PT1H
BEGIN:VTIMEZONE
TZID:UTC
BEGIN:STANDARD
TZOFFSETFROM:+0000
TZOFFSETTO:+0000
TZNAME:UTC
DTSTART:20240101T000000
END:STANDARD
END:VTIMEZONE
BEGIN:VEVENT
DTSTART;TZID=UTC:20250322T150000
DTEND;TZID=UTC:20250328T090000
DTSTAMP:20260425T130008
CREATED:20240801T114317Z
LAST-MODIFIED:20250305T172423Z
UID:10610-1742655600-1743152400@iona.org.uk
SUMMARY:Time and Space - 3 or 6 Nights
DESCRIPTION:[vc_row][vc_column][vc_column_text]Time and Space: 22nd – 28th March 2025. 3 or 6 nights \n\nDo you need some time and space in your busy life? Come to the Abbey.   \n Our Time and Space weeks offer just enough structure and community for you to rest and reconnect. Join us in the ‘thin place’ between heaven and earth and be part of the rhythm of work and worship that frames life at the Abbey.  \nYou ‘ll have the opportunity to:  \n\nenjoy the wild and rugged scenery \n\n\njoin our weekly pilgrimage\n\n\nparticipate guided reflection and small group conversations \n\n\ncreatively explore issues of concern such as inclusion\, ecological justice and peace \n\n\nenjoy creative art opportunities \n\n\ntake part in daily worship \n\n\nwork with other guests on shared tasks \n\n\nshare tasty meals from the Iona Abbey Kitchen \n\n\nCosts \n6 Nights: £846 per adult\, £423 for reduced rate – see our programme page for more information. \n3 Nights: £423 per adult\, £211.50 for reduced rate. \n[/vc_column_text][/vc_column][/vc_row][vc_row][vc_column][vc_btn title=”Book Here for 6 nights: 22nd – 28th March” style=”custom” custom_background=”#568ea4″ custom_text=”#eae8e8″ link=”url:https%3A%2F%2Fportal.freetobook.com%2Freservations%3Fw_id%3D43736%26w_tkn%3DZ8ayvaEvw2SsrbCpGHLzeQZxQGqxQJy163aSHXVJnHbgCb53vffml4WKihlt5%26checkIn%3D2025-03-22%26stayLength%3D6″][/vc_column][/vc_row][vc_row][vc_column]\n			\n\n			\n\n			\n			\n			\n			Book Here 3 Nights: 22nd - 25th March\n\n			\n			\n			or\n			\n\n			\n\n			\n			\n			Book Here: 3 Nights: 25th - 28th March\n\n			\n			\n			\n			\n			[/vc_column][/vc_row]
URL:https://iona.org.uk/event/time-and-space-22nd-march/
LOCATION:Iona Abbey Centre\, Isle of Iona\, United Kingdom
CATEGORIES:Iona Abbey Programme 2025,Spring 2026 Iona Abbey Programme
ATTACH;FMTTYPE=image/png:https://iona.org.uk/wp-content/uploads/2024/08/Celtic-Wheel-Spring-22-28-March.png
END:VEVENT
END:VCALENDAR