BEGIN:VCALENDAR
VERSION:2.0
PRODID:-//Iona Community - ECPv6.15.16//NONSGML v1.0//EN
CALSCALE:GREGORIAN
METHOD:PUBLISH
X-WR-CALNAME:Iona Community
X-ORIGINAL-URL:https://iona.org.uk
X-WR-CALDESC:Events for Iona Community
REFRESH-INTERVAL;VALUE=DURATION:PT1H
X-Robots-Tag:noindex
X-PUBLISHED-TTL:PT1H
BEGIN:VTIMEZONE
TZID:UTC
BEGIN:STANDARD
TZOFFSETFROM:+0000
TZOFFSETTO:+0000
TZNAME:UTC
DTSTART:20240101T000000
END:STANDARD
END:VTIMEZONE
BEGIN:VEVENT
DTSTART;TZID=UTC:20250405T150000
DTEND;TZID=UTC:20250411T090000
DTSTAMP:20260425T111315
CREATED:20240801T114540Z
LAST-MODIFIED:20250220T121155Z
UID:9888-1743865200-1744362000@iona.org.uk
SUMMARY:Embody Lent (limited availability)
DESCRIPTION:[vc_row][vc_column][vc_column_text]\n\nEmbody Lent 5th – 11th April 2025 \n\nAre you curious about how Christian spirituality intersects with yoga?  \nPauline Steenbergen\, Steve Carter and Una Bentley will lead your exploration during the fifth week of Lent. Indoor and outdoor practices will be based on the book\, Embody Lent in 29 Yoga Postures at different times of day. \nEach yoga practice will begin with grounding and slow breathing and will end with time for stillness\, meditation\, prayer or relaxation. We’ll be paying attention to each other throughout the week as equals\, subjects rather than objects. We will examine ways to cultivate body\, mind and breath awareness. And we will find more unity with others\, the earth\, all living things and the Divine source of every breath. The programme will include one group reflection about the Eastern origins of yoga and ways in which practising yoga can lead into deeper ecumenical and interfaith encounters towards peace work. \n‘My faith is anchored in the belief that God is the Breath of life. I feel ‘yoked’ to God’s presence when simply I take the time to become conscious of my breath in and my breath out.‘ Pauline Steenbergen  \nAll faiths and no-faith participants are welcome. No previous experience of yoga is required. Seated and gentle options will be included so that people of various abilities can participate. \nProgramme leaders \nPauline Steenbergen is a new Member of lona Community (2024-6)\, a Church of Scotland minister\, former hospice chaplain\, spiritual director\, Yoga Scotland teacher and author. \n  \n  \n \n\n\n\n\nSteve Carter is a retired Anglican priest\, former South American Mission partner and police chaplain. \n\n\n  \n  \n  \nUna Bentley fell in love with yoga in the 80s\, and has been teaching it since 2010\, to people of all shapes\, ages and abilities. She works with traveller children\, and co-leads a weekly meditation service for her local Anglican Church.  \n  \n  \nCosts \n  \n6 Nights: £846.00 per adult\, £423.00 for reduced rate – see our programme page for more information.[/vc_column_text][/vc_column][/vc_row][vc_row][vc_column][vc_btn title=”BOOK HERE” style=”custom” custom_background=”#568ea4″ custom_text=”#eae8e8″ link=”url:https%3A%2F%2Fportal.freetobook.com%2Freservations%3Fw_id%3D43736%26w_tkn%3DZ8ayvaEvw2SsrbCpGHLzeQZxQGqxQJy163aSHXVJnHbgCb53vffml4WKihlt5%26checkIn%3D2025-04-05%26stayLength%3D6″][/vc_column][/vc_row][vc_row][vc_column][/vc_column][/vc_row]
URL:https://iona.org.uk/event/embody-lent/
LOCATION:Iona Abbey Centre\, Isle of Iona\, United Kingdom
CATEGORIES:Iona Abbey Programme 2025,Spring 2026 Iona Abbey Programme
ATTACH;FMTTYPE=image/png:https://iona.org.uk/wp-content/uploads/2024/10/Embody-Lent-5-11-April-3.png
END:VEVENT
END:VCALENDAR