BEGIN:VCALENDAR
VERSION:2.0
PRODID:-//Iona Community - ECPv6.15.16//NONSGML v1.0//EN
CALSCALE:GREGORIAN
METHOD:PUBLISH
X-WR-CALNAME:Iona Community
X-ORIGINAL-URL:https://iona.org.uk
X-WR-CALDESC:Events for Iona Community
REFRESH-INTERVAL;VALUE=DURATION:PT1H
X-Robots-Tag:noindex
X-PUBLISHED-TTL:PT1H
BEGIN:VTIMEZONE
TZID:UTC
BEGIN:STANDARD
TZOFFSETFROM:+0000
TZOFFSETTO:+0000
TZNAME:UTC
DTSTART:20230101T000000
END:STANDARD
END:VTIMEZONE
BEGIN:VEVENT
DTSTART;TZID=UTC:20240608T160000
DTEND;TZID=UTC:20240614T090000
DTSTAMP:20260421T223400
CREATED:20231031T142732Z
LAST-MODIFIED:20240603T171348Z
UID:8747-1717862400-1718355600@iona.org.uk
SUMMARY:Columba Week (FULLY BOOKED - waiting list open)
DESCRIPTION:[vc_row][vc_column][vc_column_text]\n\nImage: Columba’s Shrine by the door of Iona Abbey. Credit: Iona Community/ B. Forsyth \nColumba Week 8th – 14th June 2024. – FULLY BOOKED \n (WAITING LIST – please contact ionaabbeybookings@iona.org.uk to add your name to the waiting list). \nIconic\, flawed\, ambitious and unique\, Saint Columba emerged from the sorrow of exile to become the foremost figure of his time\, spreading the gospel and establishing a thriving island community which one writer called “a beacon of enlightenment Christianity”. Columba’s story is curiously modern. It challenges us to speak truth to power\, create genuine openness and welcome\, to do the hard work of peace-making and leadership in dark times. \n\nSunday 9th June\, Columba’s feast day\, will include the launch of the CHARTS Iona project\, bringing an exhibition from Donegal about the saint\, and with music\, poetry\, and a session on placenames and the landscape of Iona. The week will also include sessions on the Book of Kells\, created on Iona in honour of Columcille. The poetry created in his memory since ancient times. The artwork of sculptured stone and painted imagery made over the centuries\, and a discussion of how beauty\, memory and places of pilgrimage can become a springboard for action for social justice in our world. Take part in workshops on music\, writing and art\, and a guided pilgrimage to stunning St. Columba’s Bay.This week will be led by Iona Community Member and writer\, Rosemary Power.   \n\nCosts\n6 Nights: £762 per adult\, £381 for reduced rate – see our programme page for more information.[/vc_column_text][/vc_column][/vc_row][vc_row][vc_column][vc_btn title=”BOOK HERE” style=”custom” custom_background=”#568ea4″ custom_text=”#eae8e8″ link=”url:https%3A%2F%2Fportal.freetobook.com%2Freservations%3Fw_id%3D43736%26w_tkn%3DZ8ayvaEvw2SsrbCpGHLzeQZxQGqxQJy163aSHXVJnHbgCb53vffml4WKihlt5%26checkIn%3D2024-06-08%26stayLength%3D6″][/vc_column][/vc_row][vc_row][vc_column][/vc_column][/vc_row]
URL:https://iona.org.uk/event/columba-week/
LOCATION:Iona Abbey Centre\, Isle of Iona\, United Kingdom
CATEGORIES:Iona Abbey Programme 2024
ATTACH;FMTTYPE=image/png:https://iona.org.uk/wp-content/uploads/2023/10/Abbey-Programme-2024-10.png
END:VEVENT
END:VCALENDAR