BEGIN:VCALENDAR
VERSION:2.0
PRODID:-//Iona Community - ECPv6.15.16//NONSGML v1.0//EN
CALSCALE:GREGORIAN
METHOD:PUBLISH
X-WR-CALNAME:Iona Community
X-ORIGINAL-URL:https://iona.org.uk
X-WR-CALDESC:Events for Iona Community
REFRESH-INTERVAL;VALUE=DURATION:PT1H
X-Robots-Tag:noindex
X-PUBLISHED-TTL:PT1H
BEGIN:VTIMEZONE
TZID:UTC
BEGIN:STANDARD
TZOFFSETFROM:+0000
TZOFFSETTO:+0000
TZNAME:UTC
DTSTART:20230101T000000
END:STANDARD
END:VTIMEZONE
BEGIN:VEVENT
DTSTART;TZID=UTC:20240803T160000
DTEND;TZID=UTC:20240809T090000
DTSTAMP:20260421T195737
CREATED:20231031T173930Z
LAST-MODIFIED:20240307T095853Z
UID:8763-1722700800-1723194000@iona.org.uk
SUMMARY:Today we rise! YouthFest 2024 (age 14-18)
DESCRIPTION:[vc_row][vc_column][vc_column_text]\n\nImage: Young people on the weekly pilgrimage on Iona. Credit: Iona Community/ J. Hudiburg \nToday we rise. YouthFest 20204 3rd – 9th August  \nGrounded in each day\, we will explore the island and community as well as what helps us grow and rise in our lives. Beach time\, art\, hiking\, music\, service\, worship and fun! \nFacilitators \n\nJoshuah Brian Campbell is a singer\, composer\, songwriter\, ministry worker\, and actor from Cheraw\, South Carolina\, USA.  He is passionate about church (and divine experiences that aren’t church)\, all kinds of music\, cooking\, and animals (especially hippos and dogs). On Iona\, he looks forward to breathing new air\, singing new songs\, and learning new things with the YouthFest community. You can see Joshuah in action here. \nAllen Hannah runs a Charity Theatre School called Encore Stars Academy and also works for the Scottish government. Allen is passionate about working and helping young people learn new skills and have fun. They like to sing\, play the guitar and travel as much as possible and are looking forward to meeting everyone and being part in their journey as they discover Iona and all it has to offer. \nYou can get a flavour of YouthFest here: \n\n[/vc_column_text][vc_video link=”https://youtube.com/shorts/ALC9kP6AYtE?feature=share” el_width=”70″][vc_column_text]\nCosts\n6 Nights:  £381 for all under-18s and up to 2 adults per group. Any additional adults will be charged at the full rate of £762.00. Contact ionaabbeybookings@iona.org.uk for all the essential booking information.[/vc_column_text][/vc_column][/vc_row][vc_row][vc_column][/vc_column][/vc_row]
URL:https://iona.org.uk/event/youthfest-2024/
LOCATION:Iona Abbey Centre\, Isle of Iona\, United Kingdom
CATEGORIES:Iona Abbey Programme 2024
ATTACH;FMTTYPE=image/png:https://iona.org.uk/wp-content/uploads/2023/10/YouthFest-programme.png
END:VEVENT
END:VCALENDAR