BEGIN:VCALENDAR
VERSION:2.0
PRODID:-//Iona Community - ECPv6.15.16//NONSGML v1.0//EN
CALSCALE:GREGORIAN
METHOD:PUBLISH
X-ORIGINAL-URL:https://iona.org.uk
X-WR-CALDESC:Events for Iona Community
REFRESH-INTERVAL;VALUE=DURATION:PT1H
X-Robots-Tag:noindex
X-PUBLISHED-TTL:PT1H
BEGIN:VTIMEZONE
TZID:UTC
BEGIN:STANDARD
TZOFFSETFROM:+0000
TZOFFSETTO:+0000
TZNAME:UTC
DTSTART:20230101T000000
END:STANDARD
END:VTIMEZONE
BEGIN:VEVENT
DTSTART;TZID=UTC:20240810T160000
DTEND;TZID=UTC:20240816T090000
DTSTAMP:20260421T134430
CREATED:20231031T201752Z
LAST-MODIFIED:20240715T163852Z
UID:8782-1723305600-1723798800@iona.org.uk
SUMMARY:Women’s Spirituality Week (FULLY BOOKED)
DESCRIPTION:[vc_row][vc_column][vc_column_text]\nImage: Descent of the Spirit Lipchitz Sculpture in Iona Abbey Cloisters. Credit: Iona Community/ B. Forsyth \n\nWomen’s Spirituality Week 10th – 16th August 2024 \nTogether we will investigate a different perspective on women’s spirituality\, finding inspiration from some of the women in the Bible\, and how their stories speak to us now. \nWe will examine the remarkable hidden life of Mary Magdalene – her struggle\, sorrow and triumph – and all she has to offer modern faith in terms of presence\, recognition and equality. \nWe will honour Mary as a surprisingly contemporary figure\, a prism through which we can examine the way we relate to ourselves\, each other and the divine. \nThis week will combine workshops\, Shibashi and positive exercises for inward reflection. Spend a week in community\, in art\, in nature\, finding a slow life on our inner healing journey. \nThe week is open to people of all genders and will be facilitated by Evie Nieboer\, a former Deputy Cook at Iona Abbey\, and a member of the Iona Community Young Adults’ Group. \n\nCosts\n6 Nights: £762 per adult\, £381 for reduced rate – see our programme page for more information.[/vc_column_text][/vc_column][/vc_row][vc_row][vc_column][vc_btn title=”BOOK HERE” style=”custom” custom_background=”#568ea4″ custom_text=”#eae8e8″ link=”url:https%3A%2F%2Fportal.freetobook.com%2Freservations%3Fw_id%3D43736%26w_tkn%3DZ8ayvaEvw2SsrbCpGHLzeQZxQGqxQJy163aSHXVJnHbgCb53vffml4WKihlt5%26checkIn%3D2024-08-10%26stayLength%3D6″][/vc_column][/vc_row][vc_row][vc_column][/vc_column][/vc_row]
URL:https://iona.org.uk/event/womens-spirituality-week/
LOCATION:Iona Abbey Centre\, Isle of Iona\, United Kingdom
CATEGORIES:Iona Abbey Programme 2024
ATTACH;FMTTYPE=image/png:https://iona.org.uk/wp-content/uploads/2024/01/37.png
END:VEVENT
END:VCALENDAR