BEGIN:VCALENDAR
VERSION:2.0
PRODID:-//Iona Community - ECPv6.15.16//NONSGML v1.0//EN
CALSCALE:GREGORIAN
METHOD:PUBLISH
X-WR-CALNAME:Iona Community
X-ORIGINAL-URL:https://iona.org.uk
X-WR-CALDESC:Events for Iona Community
REFRESH-INTERVAL;VALUE=DURATION:PT1H
X-Robots-Tag:noindex
X-PUBLISHED-TTL:PT1H
BEGIN:VTIMEZONE
TZID:UTC
BEGIN:STANDARD
TZOFFSETFROM:+0000
TZOFFSETTO:+0000
TZNAME:UTC
DTSTART:20230101T000000
END:STANDARD
END:VTIMEZONE
BEGIN:VEVENT
DTSTART;TZID=UTC:20240831T160000
DTEND;TZID=UTC:20240906T090000
DTSTAMP:20260421T172122
CREATED:20231031T210321Z
LAST-MODIFIED:20240527T091619Z
UID:8792-1725120000-1725613200@iona.org.uk
SUMMARY:LGBTQ+ Week (LIMITED AVAILABILITY)
DESCRIPTION:[vc_row][vc_column][vc_column_text]\n\nRest and Resistance \nLGBTQ+ Week 31st August – 6th September 2024 \nA week of creative activities\, peaceful spaces and workshop/sharing times to enable LGBTQ+ people and our allies to find space for both rest and resistance in a time of change and division. The week will include optional craftivism projects\, multi-sensory prayer and worship\, outdoor activities\, movement and writing\, enabling a time of learning\, growing and caring for each-other. \nFacilitated by Alex and Jo Clare-Young.  \n\nJo Clare-Young\n\nAlex Clare-Young\nMy name is Jo (she/her)\, I am bi and I am a member of the LGBTQIA+ CCN. I am a keen storyteller and enjoy exploring faith creatively and artistically as well as in words. I am a URC minister and the Mission and training officer for Eastern Synod of the URC\, which means I get to do all sorts of exciting things. And my name is Alex (just my name or they/them). I am a trans and genderqueer person and one of the co-moderators of the LGBTQIA+ CCN. I am a writer\, artist and activist as well as being a URC minister and enjoy finding ways to do things differently. We are looking forward to some space and time for solidarity\, rest\, self-care\, action and creativity during the week. \n  \n\n\nCosts\n6 Nights: £762 per adult\, £381 for reduced rate – see our programme page for more information.[/vc_column_text][/vc_column][/vc_row][vc_row][vc_column][vc_btn title=”BOOK HERE” style=”custom” custom_background=”#568ea4″ custom_text=”#eae8e8″ link=”url:https%3A%2F%2Fportal.freetobook.com%2Freservations%3Fw_id%3D43736%26w_tkn%3DZ8ayvaEvw2SsrbCpGHLzeQZxQGqxQJy163aSHXVJnHbgCb53vffml4WKihlt5%26checkIn%3D2024-08-31%26stayLength%3D6″][/vc_column][/vc_row][vc_row][vc_column][/vc_column][/vc_row]
URL:https://iona.org.uk/event/lgbtqweek/
LOCATION:Iona Abbey Centre\, Isle of Iona\, United Kingdom
CATEGORIES:Iona Abbey Programme 2024
ATTACH;FMTTYPE=image/png:https://iona.org.uk/wp-content/uploads/2024/01/42.png
END:VEVENT
END:VCALENDAR