BEGIN:VCALENDAR
VERSION:2.0
PRODID:-//Iona Community - ECPv6.15.16//NONSGML v1.0//EN
CALSCALE:GREGORIAN
METHOD:PUBLISH
X-WR-CALNAME:Iona Community
X-ORIGINAL-URL:https://iona.org.uk
X-WR-CALDESC:Events for Iona Community
REFRESH-INTERVAL;VALUE=DURATION:PT1H
X-Robots-Tag:noindex
X-PUBLISHED-TTL:PT1H
BEGIN:VTIMEZONE
TZID:UTC
BEGIN:STANDARD
TZOFFSETFROM:+0000
TZOFFSETTO:+0000
TZNAME:UTC
DTSTART:20230101T000000
END:STANDARD
END:VTIMEZONE
BEGIN:VEVENT
DTSTART;TZID=UTC:20240928T160000
DTEND;TZID=UTC:20241004T090000
DTSTAMP:20260423T090945
CREATED:20231031T213336Z
LAST-MODIFIED:20240806T141022Z
UID:8799-1727539200-1728032400@iona.org.uk
SUMMARY:Wild Goose Publications Week (LIMITED AVAILABILITY)
DESCRIPTION:[vc_row][vc_column][vc_column_text]\n\nImage: October sunset from Iona. Credit: Iona Community/ P. Bennett \nWild Goose Publications Week 28th September – 4th October (LIMITED AVAILABILITY) \nCreative writing and art workshops\, storytelling\, breadmaking\, a ceilidh – and more. A week to celebrate creativity and spiritual enquiry. Readings by Wild Goose authors and space to write and share your own poems and prayers. \nFacilitated by Wild Goose Publications authors: Martin and Meg Wroe\, Jan Sutch Pickard\, Neil Paynter and Helen Lambie\, and some possible special guests. \nWild Goose Publications authors\nMartin Wroe is married to Meg\, a painter\, and together they have been raised by three children. He got into journalism while studying theology and ended up on the staff of the Independent and later the Observer. He has had long-time collaborations with the Greenbelt Arts Festival\, the human rights NGO Amos Trust and the rock band U2. He contributes to BBC Radio 4’s Thought for the Day and accidentally became an Anglican priest. He was late to understand that religions are poems and tries to write one most days. His most recent book of poems is Julian Of Norwich’s Teabag (Wild Goose Publications). Martin is an associate of the Iona Community. \nMeg Wroe and Martin volunteered on lona for two months as Programme Workers. Meg has also led creative workshops at the Greenbelt Festival. Meg is an artist and exhibits her paintings regularly in London and Margate (www.megwroe.com). She is also a children’s Occupational Therapist\, working part-time in a school for children with special needs. She is a member of the lona Community. \nJan Sutch Pickard: ‘I am a poet and storyteller now living on the Isle of Mull. I began working for the Community on Iona in the last millennium. My storytelling draws on local history and legend from the West of Scotland\, and also the West Bank Palestinian territories where\, leaving Iona\, I became an Ecumenical Accompanier. These places and experiences have also inspired my poetry (Wild Goose books: Out of Iona\, Between High and Low Water\, A Pocket Full of Crumbs). I would like to hear your stories!’ \nHelen Lambie is a breadmaker\, retired cook\, and former member of the Resident Group on Iona. \nNeil Paynter is Helen’s partner\, an editor with Wild Goose Publications\, a late-night piano player\, and a former Resident Group member and volunteer. He has worked for the Iona Community for about a quarter of a century. He likes cats a lot. \nCosts\n\n6 Nights: £762 per adult\, £381 for reduced rate – see our programme page for more information.[/vc_column_text][/vc_column][/vc_row][vc_row][vc_column][vc_btn title=”BOOK HERE” style=”custom” custom_background=”#568ea4″ custom_text=”#eae8e8″ link=”url:https%3A%2F%2Fportal.freetobook.com%2Freservations%3Fw_id%3D43736%26w_tkn%3DZ8ayvaEvw2SsrbCpGHLzeQZxQGqxQJy163aSHXVJnHbgCb53vffml4WKihlt5%26checkIn%3D2024-09-28%26stayLength%3D6″][/vc_column][/vc_row][vc_row][vc_column][/vc_column][/vc_row]
URL:https://iona.org.uk/event/wild-goose-publications-week/
LOCATION:Iona Abbey Centre\, Isle of Iona\, United Kingdom
CATEGORIES:Iona Abbey Programme 2024
ATTACH;FMTTYPE=image/png:https://iona.org.uk/wp-content/uploads/2024/01/48.png
END:VEVENT
END:VCALENDAR