BEGIN:VCALENDAR
VERSION:2.0
PRODID:-//Iona Community - ECPv6.15.16//NONSGML v1.0//EN
CALSCALE:GREGORIAN
METHOD:PUBLISH
X-ORIGINAL-URL:https://iona.org.uk
X-WR-CALDESC:Events for Iona Community
REFRESH-INTERVAL;VALUE=DURATION:PT1H
X-Robots-Tag:noindex
X-PUBLISHED-TTL:PT1H
BEGIN:VTIMEZONE
TZID:UTC
BEGIN:STANDARD
TZOFFSETFROM:+0000
TZOFFSETTO:+0000
TZNAME:UTC
DTSTART:20230101T000000
END:STANDARD
END:VTIMEZONE
BEGIN:VEVENT
DTSTART;TZID=UTC:20241005T160000
DTEND;TZID=UTC:20241011T090000
DTSTAMP:20260423T105858
CREATED:20231031T214545Z
LAST-MODIFIED:20240919T161330Z
UID:8802-1728144000-1728637200@iona.org.uk
SUMMARY:Pilgrimage of life (FULLY BOOKED)
DESCRIPTION:[vc_row][vc_column][vc_column_text]\nImage credit: Sara Bain \nPilgrimage of life 5th – 11th October 2024 \n\nA week to explore our lives as pilgrimage\, deepening our resources to face climate change with Alastair McIntosh. \nClimate change is the most pressing physical problem that the whole world currently faces. But what are its deeper roots? Is it sufficient to face it at the conventional levels of science\, politics and economics\, or does it also require insights into the human condition that only deep psychology and a profound spirituality can offer? \nThe Russian writer Maxim Gorky said “All of us are pilgrims on this earth. I have even heard it said that the earth itself is a pilgrim in the heavens.” How does ecological theology help to understand this\, and  how might an understanding of our own lives as pilgrims help to inform\, and to sustain\, the vocations called for from us in these times? \nAbove all\, however\, how can we not let these times go to waste\, but to let God use them to deepen our own spirituality and\, perhaps\, that of the world on its pilgrimage through time? During this week we will reflect together on the words of both a former Iona Abbey warden and in the experience of the Columban monks that Saint Adomnan recorded: “Yea\, though I walk through the valley of the shadow of death”? \n \nFacilitator\nAlastair McIntosh is a human ecologist whose work connects the social and environmental problems of the world to a call for spiritual deepening. He lives in Govan from where George MacLeod founded the Iona Community. Alastair is a founding trustee of the GalGael Trust that builds community in hard-pressed social contexts\, an honorary professor in the School of Education at the University of Glasgow and the author of a dozen books. The books most pertinent to this week are Parables of Northern Seed: Soil and Soul: People versus Corporate Power (Aurum 2001)\, Hell and High Water: Climate Change\, Hope and the Human Condition (Birinn 2008)\, Poacher’s Pilgrimage: a Journey Through Land and Soul (Birlinn 2016) and Riders on the Storm: The Climate Crisis and the Survival of Being (Birlinn 2020). \n\n\nCosts\n6 Nights: £762 per adult\, £381 for reduced rate – see our programme page for more information.[/vc_column_text][/vc_column][/vc_row][vc_row][vc_column][vc_btn title=”BOOK HERE” style=”custom” custom_background=”#568ea4″ custom_text=”#eae8e8″ link=”url:https%3A%2F%2Fportal.freetobook.com%2Freservations%3Fw_id%3D43736%26w_tkn%3DZ8ayvaEvw2SsrbCpGHLzeQZxQGqxQJy163aSHXVJnHbgCb53vffml4WKihlt5%26checkIn%3D2024-10-05%26stayLength%3D6″][/vc_column][/vc_row][vc_row][vc_column][/vc_column][/vc_row]
URL:https://iona.org.uk/event/pilgrimage-of-life/
LOCATION:Iona Abbey Centre\, Isle of Iona\, United Kingdom
CATEGORIES:Iona Abbey Programme 2024
ATTACH;FMTTYPE=image/png:https://iona.org.uk/wp-content/uploads/2023/10/Pilgrimage-of-Life-1.png
END:VEVENT
END:VCALENDAR