BEGIN:VCALENDAR
VERSION:2.0
PRODID:-//Iona Community - ECPv6.15.16//NONSGML v1.0//EN
CALSCALE:GREGORIAN
METHOD:PUBLISH
X-ORIGINAL-URL:https://iona.org.uk
X-WR-CALDESC:Events for Iona Community
REFRESH-INTERVAL;VALUE=DURATION:PT1H
X-Robots-Tag:noindex
X-PUBLISHED-TTL:PT1H
BEGIN:VTIMEZONE
TZID:UTC
BEGIN:STANDARD
TZOFFSETFROM:+0000
TZOFFSETTO:+0000
TZNAME:UTC
DTSTART:20230101T000000
END:STANDARD
END:VTIMEZONE
BEGIN:VEVENT
DTSTART;TZID=UTC:20241019T160000
DTEND;TZID=UTC:20241025T090000
DTSTAMP:20260423T105847
CREATED:20231101T065820Z
LAST-MODIFIED:20240307T115100Z
UID:8805-1729353600-1729846800@iona.org.uk
SUMMARY:Longing and belonging: Associate Members Week
DESCRIPTION:[vc_row][vc_column][vc_column_text]\nImage: Associate Members walking on the north end of Iona. Credit: Iona Community/F. Macdougall \nLONGING AND BELONGING: Associates Week 19th – 25th October 2024 \nThis week is for those who are Associate Members of the Iona Community. We will gather on the land and in the space that has inspired a movement that offers belonging and also challenges us to align God’s longing for a world of justice and peace. \n  \n\nI learned more about what it is to be an Associate… I enjoyed the time and new friendships with like-minded people. \n\nAn opportunity for self-reflection\, connecting with other Associate Members\, learning tools and sharing gifts that encourage and enrich our shared journey. \nThe week includes the pilgrimage around the island\, art and daily worship. \nCosts\n6 Nights: £762 per adult\, £381 for reduced rate – see our programme page for more information.[/vc_column_text][/vc_column][/vc_row][vc_row][vc_column][vc_btn title=”BOOK HERE” style=”custom” custom_background=”#568ea4″ custom_text=”#eae8e8″ link=”url:https%3A%2F%2Fportal.freetobook.com%2Freservations%3Fw_id%3D43736%26w_tkn%3DZ8ayvaEvw2SsrbCpGHLzeQZxQGqxQJy163aSHXVJnHbgCb53vffml4WKihlt5%26checkIn%3D2024-10-19%26stayLength%3D6″][/vc_column][/vc_row][vc_row][vc_column][/vc_column][/vc_row]
URL:https://iona.org.uk/event/longing-and-belonging-associate-members-week/
LOCATION:Iona Abbey Centre\, Isle of Iona\, United Kingdom
CATEGORIES:Iona Abbey Programme 2024
ATTACH;FMTTYPE=image/png:https://iona.org.uk/wp-content/uploads/2023/11/Associate-Members-week.png
END:VEVENT
END:VCALENDAR