BEGIN:VCALENDAR
VERSION:2.0
PRODID:-//Iona Community - ECPv6.15.16//NONSGML v1.0//EN
CALSCALE:GREGORIAN
METHOD:PUBLISH
X-ORIGINAL-URL:https://iona.org.uk
X-WR-CALDESC:Events for Iona Community
REFRESH-INTERVAL;VALUE=DURATION:PT1H
X-Robots-Tag:noindex
X-PUBLISHED-TTL:PT1H
BEGIN:VTIMEZONE
TZID:UTC
BEGIN:STANDARD
TZOFFSETFROM:+0000
TZOFFSETTO:+0000
TZNAME:UTC
DTSTART:20260101T000000
END:STANDARD
END:VTIMEZONE
BEGIN:VEVENT
DTSTART;TZID=UTC:20270529T160000
DTEND;TZID=UTC:20270604T090000
DTSTAMP:20260420T062115
CREATED:20260411T133402Z
LAST-MODIFIED:20260414T154633Z
UID:61446-1811606400-1812099600@iona.org.uk
SUMMARY:Time and Space
DESCRIPTION:[vc_row][vc_column][vc_column_text css=””]Please note\, this Time and Space week is already fully booked through a partner organisation. \nCome join us at the Abbey for some time and space to rest\, reconnect and be renewed. \nOur Time and Space weeks offer just enough structure for reflection in community while also giving plenty of space to pause and explore the wild and rugged scenery of the island. \nYou’ll have the opportunity to join in guided reflections\, small group conversations and our weekly pilgrimage\, but most importantly\, you can take a deep breath and settle into our rhythm of work\, rest and worship. \nSpend time with other guests working on shared tasks\, join in the worship at the Abbey Church\, and enjoy fantastic meals from the Iona Abbey Kitchen\, shared at communal tables in the refectory. \nLet this beautiful place settle in your heart and give it time and space to comfort\, challenge and change you. \n  \nBooking Information for this week: \nWe’re sorry this Time and Space week is already fully booked through a partner organisation – more information soon.[/vc_column_text][/vc_column][/vc_row][vc_row][vc_column][vc_btn title=”Essential Booking Information” style=”custom” custom_text=”#666666″ css=”” link=”url:https%3A%2F%2Fiona.org.uk%2Fvisit-and-stay%2Fiona-abbey-essential-booking-information-2026%2F|target:_blank” el_class=”tealoutlinebtn generalbtn rightbtn”][/vc_column][/vc_row][vc_row][vc_column][/vc_column][/vc_row][vc_row][vc_column][vc_column_text][/vc_column_text][/vc_column][/vc_row][vc_row][vc_column][/vc_column][/vc_row][vc_row][vc_column][/vc_column][/vc_row][vc_row][vc_column][/vc_column][/vc_row]
URL:https://iona.org.uk/event/timeandspace-29052027/
LOCATION:Iona Abbey Centre\, Isle of Iona\, United Kingdom
CATEGORIES:Iona Abbey Programme 2027
ATTACH;FMTTYPE=image/png:https://iona.org.uk/wp-content/uploads/2026/02/29-May.png
END:VEVENT
BEGIN:VEVENT
DTSTART;TZID=UTC:20270605T160000
DTEND;TZID=UTC:20270611T090000
DTSTAMP:20260420T062115
CREATED:20260411T132957Z
LAST-MODIFIED:20260415T083021Z
UID:61463-1812211200-1812704400@iona.org.uk
SUMMARY:Columba Week 2027
DESCRIPTION:[vc_row][vc_column][vc_column_text css=””]Flawed\, ambitious and uniquely charismatic\, Saint Columba emerged from the sorrow of exile to become the foremost figure of his time\, establishing a thriving religious and creative community that shaped the history of Iona and the Celtic Christian tradition. \nColumba’s story and legacy still speak to us today\, offering vital and soulful practices to help us meet the modern world with compassion\, presence\, and wisdom. \nJoin us for a week of celebration and investigation\, including expansive discussion\, contemplative practice\, sacred music\, and connection with the land of this island. \n  \nProgramme Leader \n \nRev. Simon Ruth de Voil is an ordained interfaith/interspiritual minister. As a sacred musician\, spiritual mentor\, retreat and worship leader\, he incorporates chant\, ritual\, storytelling and mindful practice to create a space for profound connection and sacred witness. \n  \n  \n  \nCosts \n6 Nights: £1\,152 per adult\, £576 concession.[/vc_column_text][/vc_column][/vc_row][vc_row][vc_column][vc_btn title=”Book Here” style=”custom” custom_text=”#666666″ css=”” link=”url:https%3A%2F%2Fbooking-directly.com%2Fwidgets%2FZ8ayvaEvw2SsrbCpGHLzeQZxQGqxQJy163aSHXVJnHbgCb53vffml4WKihlt5%2Fproperties%2Funit-selection%3Fsearch_stay_dates%3D%257B%2522checkInDate%2522%253A%25222027-06-05%2522%252C%2522checkOutDate%2522%253A%25222027-06-11%2522%257D%26search_occupancies%3D%255B%257B%2522numberOfAdults%2522%253A2%252C%2522children%2522%253A%255B%255D%257D%255D|target:_blank|rel:nofollow” el_class=”tealbtn generalbtn”][vc_btn title=”Essential Booking Information” style=”custom” custom_text=”#666666″ css=”” link=”url:https%3A%2F%2Fiona.org.uk%2Fvisit-and-stay%2Fiona-abbey-essential-booking-information-2027%2F|target:_blank” el_class=”tealoutlinebtn generalbtn rightbtn”][/vc_column][/vc_row][vc_row][vc_column][/vc_column][/vc_row][vc_row][vc_column][vc_column_text][/vc_column_text][/vc_column][/vc_row][vc_row][vc_column][/vc_column][/vc_row][vc_row][vc_column][/vc_column][/vc_row][vc_row][vc_column][/vc_column][/vc_row]
URL:https://iona.org.uk/event/columba-week-2027/
LOCATION:Iona Abbey Centre\, Isle of Iona\, United Kingdom
CATEGORIES:Iona Abbey Programme 2027
ATTACH;FMTTYPE=image/png:https://iona.org.uk/wp-content/uploads/2026/04/1.png
END:VEVENT
BEGIN:VEVENT
DTSTART;TZID=UTC:20270612T160000
DTEND;TZID=UTC:20270618T090000
DTSTAMP:20260420T062115
CREATED:20260411T132408Z
LAST-MODIFIED:20260411T132408Z
UID:61471-1812816000-1813309200@iona.org.uk
SUMMARY:Time and Space
DESCRIPTION:[vc_row][vc_column][vc_column_text css=””]Come join us at the Abbey for some time and space to rest\, reconnect and be renewed. \nOur Time and Space weeks offer just enough structure for reflection in community while also giving plenty of space to pause and explore the wild and rugged scenery of the island. \nYou’ll have the opportunity to join in guided reflections\, small group conversations and our weekly pilgrimage\, but most importantly\, you can take a deep breath and settle into our rhythm of work\, rest and worship. \nSpend time with other guests working on shared tasks\, join in the worship at the Abbey Church\, and enjoy fantastic meals from the Iona Abbey Kitchen\, shared at communal tables in the refectory. \nLet this beautiful place settle in your heart and give it time and space to comfort\, challenge and change you. \n  \nCosts \n6 Nights: £960 per adult\, £480 concession.[/vc_column_text][/vc_column][/vc_row][vc_row][vc_column][vc_btn title=”Book Here” style=”custom” custom_text=”#666666″ css=”” link=”url:https%3A%2F%2Fbooking-directly.com%2Fwidgets%2FZ8ayvaEvw2SsrbCpGHLzeQZxQGqxQJy163aSHXVJnHbgCb53vffml4WKihlt5%2Fproperties%2Funit-selection%3Fsearch_stay_dates%3D%257B%2522checkInDate%2522%253A%25222027-06-12%2522%252C%2522checkOutDate%2522%253A%25222027-06-18%2522%257D%26search_occupancies%3D%255B%257B%2522numberOfAdults%2522%253A2%252C%2522children%2522%253A%255B%255D%257D%255D|target:_blank|rel:nofollow” el_class=”tealbtn generalbtn”][vc_btn title=”Essential Booking Information” style=”custom” custom_text=”#666666″ css=”” link=”url:https%3A%2F%2Fiona.org.uk%2Fvisit-and-stay%2Fiona-abbey-essential-booking-information-2026%2F|target:_blank” el_class=”tealoutlinebtn generalbtn rightbtn”][/vc_column][/vc_row][vc_row][vc_column][/vc_column][/vc_row][vc_row][vc_column][vc_column_text][/vc_column_text][/vc_column][/vc_row][vc_row][vc_column][/vc_column][/vc_row][vc_row][vc_column][/vc_column][/vc_row][vc_row][vc_column][/vc_column][/vc_row]
URL:https://iona.org.uk/event/time-and-space-june-12/
LOCATION:Iona Abbey Centre\, Isle of Iona\, United Kingdom
CATEGORIES:Iona Abbey Programme 2027
ATTACH;FMTTYPE=image/png:https://iona.org.uk/wp-content/uploads/2026/02/12-June.png
END:VEVENT
BEGIN:VEVENT
DTSTART;TZID=UTC:20270619T160000
DTEND;TZID=UTC:20270625T090000
DTSTAMP:20260420T062115
CREATED:20260411T132002Z
LAST-MODIFIED:20260411T132002Z
UID:61474-1813420800-1813914000@iona.org.uk
SUMMARY:Active Hope
DESCRIPTION:[vc_row][vc_column][vc_column_text css=””]Following Joanna Macy’s ‘Work That Reconnects’ framework\, this week offers the opportunity to engage with three stories of our time: Business as Usual\, The Great Unraveling and the Great Turning. \nThroughout the week\, we will learn about and move along a “Spiral Journey”\, beginning with Gratitude\, followed by Honouring our Pain for the World\, Seeing Things with New Eyes and Going Forth with Renewed Energy. \nMoving through the Spiral is a practice that can be repeated whenever we feel frustrated or stuck in a world of ongoing and increasing suffering and injustice\, the climate crisis being our focal point. \nThe programme will give us a number of tools and practices that we can take into our own lives and use whenever there is a need for renewed hope. There will be guided meditations\, group exchanges\, and a variety of creative practices\, including an easy-to-learn dance. \nMost of the programme will take place indoors\, but we will also make use of the beautiful surroundings to help us to relate to our environment in a holistic way\, an integral part of the place and interwoven in the fabric of creation. \n  \nProgramme Leader \n  \nMonica Mueller-Roemer is a retired system analyst and project manager. These days\, she leads and organises Spiritual Retreats in the Anglican/Episcopal Church. She is a member of the Climate and Creation Care Ministry in the Episcopal Church in Europe and a Member of the Iona Community. Monica lives in Frankfurt\, Germany. \n  \n  \n  \nCosts \n6 Nights: £960 per adult\, £480 concession.[/vc_column_text][/vc_column][/vc_row][vc_row][vc_column][vc_btn title=”Book Here” style=”custom” custom_text=”#666666″ css=”” link=”url:https%3A%2F%2Fbooking-directly.com%2Fwidgets%2FZ8ayvaEvw2SsrbCpGHLzeQZxQGqxQJy163aSHXVJnHbgCb53vffml4WKihlt5%2Fproperties%2Funit-selection%3Fsearch_stay_dates%3D%257B%2522checkInDate%2522%253A%25222027-06-19%2522%252C%2522checkOutDate%2522%253A%25222027-06-25%2522%257D%26search_occupancies%3D%255B%257B%2522numberOfAdults%2522%253A2%252C%2522children%2522%253A%255B%255D%257D%255D|target:_blank|rel:nofollow” el_class=”tealbtn generalbtn”][vc_btn title=”Essential Booking Information” style=”custom” custom_text=”#666666″ css=”” link=”url:https%3A%2F%2Fiona.org.uk%2Fvisit-and-stay%2Fiona-abbey-essential-booking-information-2027%2F|target:_blank” el_class=”tealoutlinebtn generalbtn rightbtn”][/vc_column][/vc_row][vc_row][vc_column][/vc_column][/vc_row][vc_row][vc_column][vc_column_text][/vc_column_text][/vc_column][/vc_row][vc_row][vc_column][/vc_column][/vc_row][vc_row][vc_column][/vc_column][/vc_row][vc_row][vc_column][/vc_column][/vc_row]
URL:https://iona.org.uk/event/active-hope/
LOCATION:Iona Abbey Centre\, Isle of Iona\, United Kingdom
CATEGORIES:Iona Abbey Programme 2027
ATTACH;FMTTYPE=image/png:https://iona.org.uk/wp-content/uploads/2026/02/19-June.png
END:VEVENT
BEGIN:VEVENT
DTSTART;TZID=UTC:20270626T160000
DTEND;TZID=UTC:20270702T090000
DTSTAMP:20260420T062115
CREATED:20260411T131441Z
LAST-MODIFIED:20260411T131441Z
UID:61479-1814025600-1814518800@iona.org.uk
SUMMARY:Seabirds\, Sundew and the Spirit
DESCRIPTION:[vc_row][vc_column][vc_column_text css=””]From corncrakes to gannets\, from marsh orchids to sea ferns and from seals to the increasingly rare heath snail\, summer on Iona provides plenty of look out for. In the course of this week we will be exploring different habitats and using our observational skills as we combine bird watching with plant hunting in search of the island’s fascinating wildlife. In our sessions we will be learning not just how to recognise the birds and plants but some of the stories behind them\, including their folklore. We will using all this as we explore a spirituality of the environment based on attentiveness and awareness and a reciprocal relationship with the earth\, how this is manifested in various cultures and how we can develop a contemporary approach that combines past tradition with present experience in order to help us confront the current environmental crisis. \n  \nProgramme Leader \n  \nBob Gilbert is an environmental writer and broadcaster\, his books include ‘The Green London Way\, ‘The Missing Musk‘ and ‘Ghost Trees’. His work for BBC Radio 4 includes ‘The Sussuration of Trees‘\, and ‘The Passion: a Pilgrimage in Plants’. An Associate Member of the Iona Community\, Bob is a Quaker living in London. \n  \n  \n  \nCosts \n6 Nights: £960 per adult\, £480 concession.[/vc_column_text][/vc_column][/vc_row][vc_row][vc_column][vc_btn title=”Book Here” style=”custom” custom_text=”#666666″ css=”” link=”url:https%3A%2F%2Fbooking-directly.com%2Fwidgets%2FZ8ayvaEvw2SsrbCpGHLzeQZxQGqxQJy163aSHXVJnHbgCb53vffml4WKihlt5%2Fproperties%2Funit-selection%3Fsearch_stay_dates%3D%257B%2522checkInDate%2522%253A%25222027-06-26%2522%252C%2522checkOutDate%2522%253A%25222027-07-02%2522%257D%26search_occupancies%3D%255B%257B%2522numberOfAdults%2522%253A2%252C%2522children%2522%253A%255B%255D%257D%255D|target:_blank|rel:nofollow” el_class=”tealbtn generalbtn”][vc_btn title=”Essential Booking Information” style=”custom” custom_text=”#666666″ css=”” link=”url:https%3A%2F%2Fiona.org.uk%2Fvisit-and-stay%2Fiona-abbey-essential-booking-information-2027%2F|target:_blank” el_class=”tealoutlinebtn generalbtn rightbtn”][/vc_column][/vc_row][vc_row][vc_column][/vc_column][/vc_row][vc_row][vc_column][vc_column_text][/vc_column_text][/vc_column][/vc_row][vc_row][vc_column][/vc_column][/vc_row][vc_row][vc_column][/vc_column][/vc_row][vc_row][vc_column][/vc_column][/vc_row]
URL:https://iona.org.uk/event/bird-week-2027/
LOCATION:Iona Abbey Centre\, Isle of Iona\, United Kingdom
CATEGORIES:Iona Abbey Programme 2027
ATTACH;FMTTYPE=image/png:https://iona.org.uk/wp-content/uploads/2026/04/1-3.png
END:VEVENT
END:VCALENDAR