BEGIN:VCALENDAR
VERSION:2.0
PRODID:-//Iona Community - ECPv6.15.16//NONSGML v1.0//EN
CALSCALE:GREGORIAN
METHOD:PUBLISH
X-WR-CALNAME:Iona Community
X-ORIGINAL-URL:https://iona.org.uk
X-WR-CALDESC:Events for Iona Community
REFRESH-INTERVAL;VALUE=DURATION:PT1H
X-Robots-Tag:noindex
X-PUBLISHED-TTL:PT1H
BEGIN:VTIMEZONE
TZID:UTC
BEGIN:STANDARD
TZOFFSETFROM:+0000
TZOFFSETTO:+0000
TZNAME:UTC
DTSTART:20260101T000000
END:STANDARD
END:VTIMEZONE
BEGIN:VEVENT
DTSTART;TZID=UTC:20270710T160000
DTEND;TZID=UTC:20270716T090000
DTSTAMP:20260420T112449
CREATED:20260411T130337Z
LAST-MODIFIED:20260416T121829Z
UID:61486-1815235200-1815728400@iona.org.uk
SUMMARY:Chasing the Wind - Wild Goose Resource Group
DESCRIPTION:[vc_row][vc_column][vc_column_text css=””]\nChasing the wind.\nWhat are we chasing? Pleasure\, wealth\, wisdom\, religion – meaningless! \nWhere is the Holy Wind blowing? Dislodging cobwebs and creeds\, formulas and fixes? \nCome fly some kites and see what is stirred up in the thrill of the chase. \nAn interactive week exploring creative\, participative\, playful ways to worship\, led by the Wild Goose Resource Group – Jo Love\, Jane Bentley\, Iain McLarty. \nProgramme leaders\n\n\nJo Love brings curiosity about Bible explorations\, deeper conversations\, and the art of well-shaped and well-led worship. \n\n  \n  \n  \n  \n \nIain McLarty is an experienced church musician in a broad range of styles\, with extensive experience working with the Church of Scotland and the World Council of Churches. \n  \n  \n  \n  \n \n\nJane Bentley specialises in inclusive music-making\, community building and social connection. \n\n  \n  \n  \n  \n  \n\n\nCosts \n6 Nights: £1\,152 per adult\, £576 concession. \n\n\n[/vc_column_text][/vc_column][/vc_row][vc_row][vc_column][vc_btn title=”Book Here” style=”custom” custom_text=”#666666″ css=”” link=”url:https%3A%2F%2Fbooking-directly.com%2Fwidgets%2FZ8ayvaEvw2SsrbCpGHLzeQZxQGqxQJy163aSHXVJnHbgCb53vffml4WKihlt5%2Fproperties%2Funit-selection%3Fsearch_stay_dates%3D%257B%2522checkInDate%2522%253A%25222027-07-10%2522%252C%2522checkOutDate%2522%253A%25222027-07-16%2522%257D%26search_occupancies%3D%255B%257B%2522numberOfAdults%2522%253A2%252C%2522children%2522%253A%255B%255D%257D%255D|target:_blank|rel:nofollow” el_class=”tealbtn generalbtn”][vc_btn title=”Essential Booking Information” style=”custom” custom_text=”#666666″ css=”” link=”url:https%3A%2F%2Fiona.org.uk%2Fvisit-and-stay%2Fiona-abbey-essential-booking-information-2027%2F|target:_blank” el_class=”tealoutlinebtn generalbtn rightbtn”][/vc_column][/vc_row][vc_row][vc_column][/vc_column][/vc_row][vc_row][vc_column][vc_column_text][/vc_column_text][/vc_column][/vc_row][vc_row][vc_column][/vc_column][/vc_row][vc_row][vc_column][/vc_column][/vc_row][vc_row][vc_column][/vc_column][/vc_row]
URL:https://iona.org.uk/event/wgrg-week1/
LOCATION:Iona Abbey Centre\, Isle of Iona\, United Kingdom
CATEGORIES:Iona Abbey Programme 2027
ATTACH;FMTTYPE=image/png:https://iona.org.uk/wp-content/uploads/2026/04/Chasing-the-Wind-WGRG-WK1-10-July-to-16-July-2027.png
END:VEVENT
END:VCALENDAR