BEGIN:VCALENDAR
VERSION:2.0
PRODID:-//Iona Community - ECPv6.15.16//NONSGML v1.0//EN
CALSCALE:GREGORIAN
METHOD:PUBLISH
X-ORIGINAL-URL:https://iona.org.uk
X-WR-CALDESC:Events for Iona Community
REFRESH-INTERVAL;VALUE=DURATION:PT1H
X-Robots-Tag:noindex
X-PUBLISHED-TTL:PT1H
BEGIN:VTIMEZONE
TZID:UTC
BEGIN:STANDARD
TZOFFSETFROM:+0000
TZOFFSETTO:+0000
TZNAME:UTC
DTSTART:20260101T000000
END:STANDARD
END:VTIMEZONE
BEGIN:VEVENT
DTSTART;TZID=UTC:20270828T150000
DTEND;TZID=UTC:20270903T090000
DTSTAMP:20260420T130939
CREATED:20260410T171701Z
LAST-MODIFIED:20260415T085053Z
UID:61565-1819465200-1819962000@iona.org.uk
SUMMARY:Refuge and the Resistance of Joy
DESCRIPTION:[vc_row][vc_column][vc_column_text css=””]In a world beset by violence\, it is easy to despair. The structures of violence historically have produced phobia and fear and been turned into systems of hate and exclusion. \nJoin us this week to look at the resources and creative practices communities can adopt which declare a different reality to one built on fear and instead declare that peace is with us. \nLeading through stories of sanctuary\, poetry\, arts and drama and their own resources of survival\, the team hopes to enable you to leave Iona having found peace\, and a sanctuary. We hope you will continue your journey empowered to work joyfully for justice and with tenacity\, humour and practical care. \n  \nProgramme Leader \n \nAlison Phipps is UNESCO Chair for Refugee Integration through Education\, Languages and Arts at the University of Glasgow where she is Professor of Languages and Intercultural Studies and a Member of the Iona Community for 25 years. \n  \n  \n  \n \nDr Tawona Sitholé is Lecturer in Creative Practice Education within the UNESCO Chair in Refugee Integration through Education\, Languages and the Arts. In research and teaching he is part of CLIP (Culture\, Literacies\, Inclusion and Pedagogy). \n  \n  \n‘Better known as Ganyamatope (my ancestral family name) my heritage inspires me to make connections with other people through creativity\, and the natural outlook to learn. Educated by assigned teachers through the schooling system\, and by natural teachers through ‘pasichigare’ (my ancestors lifestyle)\, I benefit from having more than one way of knowing/learning. As a result\, I find myself playing many roles in creativity and education. I am a poet\, playwright\, storyteller and musician.’ \n  \n \nDr Hyab Yohannes is a Lecturer in Forced Migration and Decolonial Education with the UNESCO Chair RIELA at the University of Glasgow. Hyab’s research interests include poetics\, decoloniality\, and political theories across physical\, onto-epistemic\, spatio-temporal\, and juridico-political dimensions. He advises UN bodies on human trafficking and slavery and is a survivor of torture and trafficking himself and medal recipient for his public engagement work with refugees from the Royal Society of Edinburgh. \n  \n  \n  \n  \nCosts \n6 Nights: £960 per adult\, £480 concession. \n\n[/vc_column_text][/vc_column][/vc_row][vc_row][vc_column][vc_btn title=”Book here” style=”custom” custom_text=”#666666″ css=”” link=”url:https%3A%2F%2Fbooking-directly.com%2Fwidgets%2FZ8ayvaEvw2SsrbCpGHLzeQZxQGqxQJy163aSHXVJnHbgCb53vffml4WKihlt5%2Fproperties%2Funit-selection%3Fsearch_stay_dates%3D%257B%2522checkInDate%2522%253A%25222027-08-28%2522%252C%2522checkOutDate%2522%253A%25222027-09-03%2522%257D%26search_occupancies%3D%255B%257B%2522numberOfAdults%2522%253A2%252C%2522children%2522%253A%255B%255D%257D%255D|target:_blank” el_class=”tealbtn generalbtn”][vc_btn title=”Essential Booking Information” style=”custom” custom_text=”#666666″ css=”” link=”url:https%3A%2F%2Fiona.org.uk%2Fvisit-and-stay%2Fiona-abbey-essential-booking-information-2026%2F|target:_blank” el_class=”tealoutlinebtn generalbtn rightbtn”][/vc_column][/vc_row]
URL:https://iona.org.uk/event/refuge-and-the-resistance-of-joy/
LOCATION:Iona Abbey Centre\, Isle of Iona\, United Kingdom
CATEGORIES:Iona Abbey Programme 2027
ATTACH;FMTTYPE=image/png:https://iona.org.uk/wp-content/uploads/2026/04/Refuge-and-the-Resistance-of-Joy-28-August-to-3-Sept2027-1.png
END:VEVENT
END:VCALENDAR