BEGIN:VCALENDAR
VERSION:2.0
PRODID:-//Iona Community - ECPv6.15.16//NONSGML v1.0//EN
CALSCALE:GREGORIAN
METHOD:PUBLISH
X-ORIGINAL-URL:https://iona.org.uk
X-WR-CALDESC:Events for Iona Community
REFRESH-INTERVAL;VALUE=DURATION:PT1H
X-Robots-Tag:noindex
X-PUBLISHED-TTL:PT1H
BEGIN:VTIMEZONE
TZID:UTC
BEGIN:STANDARD
TZOFFSETFROM:+0000
TZOFFSETTO:+0000
TZNAME:UTC
DTSTART:20260101T000000
END:STANDARD
END:VTIMEZONE
BEGIN:VEVENT
DTSTART;TZID=UTC:20270918T150000
DTEND;TZID=UTC:20270924T090000
DTSTAMP:20260420T150114
CREATED:20260410T170819Z
LAST-MODIFIED:20260415T090025Z
UID:61588-1821279600-1821776400@iona.org.uk
SUMMARY:Queer Joy: Identity\, Faith and Ritual
DESCRIPTION:[vc_row][vc_column][vc_column_text css=””]For queer Christians\, faith and spirituality are central components of our identity. There is also a growing number of queer folk who are interested in exploring spirituality but don’t quite know where to start. \nQueer Joy offers an opportunity to share stories\, experiences and reflections of LGBTQ+ and queer lived experience while also exploring a deeper experience of faith and the Divine\, leaving with a positive understanding of queer joy. \nThroughout the week\, there will be workshops which include individual\, group and creative experiences. These will enable personal reflection and consideration of our relationship with God and one another. \nYou will have the opportunity to choose from a variety of creative activities such as crafting\, journaling\, poetry/prayer writing\, Lego and queer mandalas. \nYou will also be able to create an individual plan of activities that you can take home with you and use on your own or in your communities. \nThis programme is open to all\, whether you identify on the LGBTQIA+ spectrum or beyond\, whether you’re queer or questioning\, whether you are new to exploring faith or have done so for decades. Allies and friends to the community are very welcome! \nPlease note that we will adopt an anti-oppressive and inclusive approach throughout the programme. \n  \nProgramme Leaders \n \nMaxwell Reay is a gender queer trans man. He has been clergy in Metropolitan Community Church since 1993. He volunteered with MCC Bath\, MCC North London and MCC Edinburgh. He served as an Elder in MCC from 2021 to 2024. He was a Healthcare Chaplain in the NHS for 18 years. These days\, he leads “Our Tribe”\, the LGBTQI+ ministry at Augustine United Church\, Edinburgh. This is a joint ministry with The United Reformed Church and MCC. \nLewis Reay is a queer trans man who lives with his husband of 30 plus years. He is a liturgist and has been published in the United Reformed Prayer Handbook for several years. He writes prayers for use in worship services as well as for a variety of personal and community activities. He is a member of Metropolitan Community Church and Augustine United Church\, Edinburgh. \n  \nCosts \n6 Nights: £960 per adult\, £480 concession. \n\n[/vc_column_text][/vc_column][/vc_row][vc_row][vc_column][vc_btn title=”Book here” style=”custom” custom_text=”#666666″ css=”” link=”url:https%3A%2F%2Fbooking-directly.com%2Fwidgets%2FZ8ayvaEvw2SsrbCpGHLzeQZxQGqxQJy163aSHXVJnHbgCb53vffml4WKihlt5%2Fproperties%2Funit-selection%3Fsearch_stay_dates%3D%257B%2522checkInDate%2522%253A%25222027-09-18%2522%252C%2522checkOutDate%2522%253A%25222027-09-24%2522%257D%26search_occupancies%3D%255B%257B%2522numberOfAdults%2522%253A2%252C%2522children%2522%253A%255B%255D%257D%255D|target:_blank” el_class=”tealbtn generalbtn”][vc_btn title=”Essential Booking Information” style=”custom” custom_text=”#666666″ css=”” link=”url:https%3A%2F%2Fiona.org.uk%2Fvisit-and-stay%2Fiona-abbey-essential-booking-information-2026%2F|target:_blank” el_class=”tealoutlinebtn generalbtn rightbtn”][/vc_column][/vc_row]
URL:https://iona.org.uk/event/queer-joy-2027/
LOCATION:Iona Abbey Centre\, Isle of Iona\, United Kingdom
CATEGORIES:Iona Abbey Programme 2027
ATTACH;FMTTYPE=image/png:https://iona.org.uk/wp-content/uploads/2026/02/queer-joy-18-September-2027.png
END:VEVENT
END:VCALENDAR