BEGIN:VCALENDAR
VERSION:2.0
PRODID:-//Iona Community - ECPv6.15.16//NONSGML v1.0//EN
CALSCALE:GREGORIAN
METHOD:PUBLISH
X-WR-CALNAME:Iona Community
X-ORIGINAL-URL:https://iona.org.uk
X-WR-CALDESC:Events for Iona Community
REFRESH-INTERVAL;VALUE=DURATION:PT1H
X-Robots-Tag:noindex
X-PUBLISHED-TTL:PT1H
BEGIN:VTIMEZONE
TZID:UTC
BEGIN:STANDARD
TZOFFSETFROM:+0000
TZOFFSETTO:+0000
TZNAME:UTC
DTSTART:20260101T000000
END:STANDARD
END:VTIMEZONE
BEGIN:VEVENT
DTSTART;TZID=UTC:20270925T150000
DTEND;TZID=UTC:20271001T090000
DTSTAMP:20260420T145741
CREATED:20260410T141046Z
LAST-MODIFIED:20260415T090216Z
UID:61600-1821884400-1822381200@iona.org.uk
SUMMARY:John Bell - Thinking Outside the Box
DESCRIPTION:[vc_row][vc_column][vc_column_text css=””]Thinking Outside the Box is both about recognising what boxes our thoughts on matters of life and faith\, and seeing things from a different perspective. \nTogether\, we will explore what happens when we focus on the witness of women in the Bible rather than the experience of men; when we investigate the benefits of living on less rather than always expecting to acquire more; when we examine moments in history from the side of the losers rather than the winners. \nCome join us for a week of creative thinking\, defying the status quo\, letting go of the rule books\, and thinking outside the box. \n  \nProgramme Leaders \n \nJohn Bell is an ordained minister\, a member of the Iona Community and a writer and occasional broadcaster. He is a much-loved contributor at Greenbelt Festival. He teaches and lectures worldwide on issues of faith\, social justice\, music and liturgy. \n  \n  \n  \n  \n  \nCosts \n6 Nights: £1\,152 per adult\, £576 concession. \n\n[/vc_column_text][/vc_column][/vc_row][vc_row][vc_column][vc_btn title=”Book here” style=”custom” custom_text=”#666666″ css=”” link=”url:https%3A%2F%2Fbooking-directly.com%2Fwidgets%2FZ8ayvaEvw2SsrbCpGHLzeQZxQGqxQJy163aSHXVJnHbgCb53vffml4WKihlt5%2Fproperties%2Funit-selection%3Fsearch_stay_dates%3D%257B%2522checkInDate%2522%253A%25222027-09-25%2522%252C%2522checkOutDate%2522%253A%25222027-10-01%2522%257D%26search_occupancies%3D%255B%257B%2522numberOfAdults%2522%253A2%252C%2522children%2522%253A%255B%255D%257D%255D|target:_blank” el_class=”tealbtn generalbtn”][vc_btn title=”Essential Booking Information” style=”custom” custom_text=”#666666″ css=”” link=”url:https%3A%2F%2Fiona.org.uk%2Fvisit-and-stay%2Fiona-abbey-essential-booking-information-2026%2F|target:_blank” el_class=”tealoutlinebtn generalbtn rightbtn”][/vc_column][/vc_row]
URL:https://iona.org.uk/event/john-bell-thinking-outside-the-box/
LOCATION:Iona Abbey Centre\, Isle of Iona\, United Kingdom
CATEGORIES:Iona Abbey Programme 2027
ATTACH;FMTTYPE=image/png:https://iona.org.uk/wp-content/uploads/2026/03/25-Sept-John-Bell.png
END:VEVENT
END:VCALENDAR