BEGIN:VCALENDAR
VERSION:2.0
PRODID:-//Iona Community - ECPv6.15.16//NONSGML v1.0//EN
CALSCALE:GREGORIAN
METHOD:PUBLISH
X-ORIGINAL-URL:https://iona.org.uk
X-WR-CALDESC:Events for Iona Community
REFRESH-INTERVAL;VALUE=DURATION:PT1H
X-Robots-Tag:noindex
X-PUBLISHED-TTL:PT1H
BEGIN:VTIMEZONE
TZID:UTC
BEGIN:STANDARD
TZOFFSETFROM:+0000
TZOFFSETTO:+0000
TZNAME:UTC
DTSTART:20260101T000000
END:STANDARD
END:VTIMEZONE
BEGIN:VEVENT
DTSTART;TZID=UTC:20271030T160000
DTEND;TZID=UTC:20271105T090000
DTSTAMP:20260420T161649
CREATED:20260410T135626Z
LAST-MODIFIED:20260410T135626Z
UID:61621-1824912000-1825405200@iona.org.uk
SUMMARY:November Work Week 2027
DESCRIPTION:[vc_row][vc_column][vc_column_text css=””]\n\nAt this time of year\, staff team and volunteers help to restore the Abbey after a busy season. This is a week for energetic people who don’t mind getting their hands dirty. Work Weeks are designed for guests aged 18 and over. \nGuests on work week participate in the rhythm and routine of work and worship in community.  Work for a typical day might include gardening\, basic DIY\, cleaning and moving objects and materials for worship between the Abbey church and the Michael Chapel. \nPrevious work week participants describe the wonderful energy of working together in a ‘common task’\, using their varied gifts. This is a fun-filled week with a ceilidh\, free time to explore Iona and lots of laughs. \nAccommodation will be offered as single occupancy rooms at Iona Abbey. \nWe also have a work week in March as we prepare the Abbey for the season. \n  \nCosts \n\n6 Nights: This week is offered at a discounted rate of £600 per adult\, £300 concession.\n[/vc_column_text][/vc_column][/vc_row][vc_row][vc_column][vc_btn title=”Book Here” style=”custom” custom_text=”#666666″ css=”” link=”url:https%3A%2F%2Fbooking-directly.com%2Fwidgets%2FZ8ayvaEvw2SsrbCpGHLzeQZxQGqxQJy163aSHXVJnHbgCb53vffml4WKihlt5%2Fproperties%2Funit-selection%3Fsearch_stay_dates%3D%257B%2522checkInDate%2522%253A%25222027-10-30%2522%252C%2522checkOutDate%2522%253A%25222027-11-05%2522%257D%26search_occupancies%3D%255B%257B%2522numberOfAdults%2522%253A2%252C%2522children%2522%253A%255B%255D%257D%255D|target:_blank|rel:nofollow” el_class=”tealbtn generalbtn”][vc_btn title=”Essential Booking Information” style=”custom” custom_text=”#666666″ css=”” link=”url:https%3A%2F%2Fiona.org.uk%2Fvisit-and-stay%2Fiona-abbey-essential-booking-information-2026%2F|target:_blank” el_class=”tealoutlinebtn generalbtn rightbtn”][/vc_column][/vc_row][vc_row][vc_column][/vc_column][/vc_row][vc_row][vc_column][vc_column_text][/vc_column_text][/vc_column][/vc_row][vc_row][vc_column][/vc_column][/vc_row][vc_row][vc_column][/vc_column][/vc_row][vc_row][vc_column][/vc_column][/vc_row]
URL:https://iona.org.uk/event/november-work-week-2027/
LOCATION:Iona Abbey Centre\, Isle of Iona\, United Kingdom
CATEGORIES:Iona Abbey Programme 2027
ATTACH;FMTTYPE=image/png:https://iona.org.uk/wp-content/uploads/2026/03/30-October-2027-Work-Week.png
END:VEVENT
END:VCALENDAR