BEGIN:VCALENDAR
VERSION:2.0
PRODID:-//Iona Community - ECPv6.15.16//NONSGML v1.0//EN
CALSCALE:GREGORIAN
METHOD:PUBLISH
X-WR-CALNAME:Iona Community
X-ORIGINAL-URL:https://iona.org.uk
X-WR-CALDESC:Events for Iona Community
REFRESH-INTERVAL;VALUE=DURATION:PT1H
X-Robots-Tag:noindex
X-PUBLISHED-TTL:PT1H
BEGIN:VTIMEZONE
TZID:UTC
BEGIN:STANDARD
TZOFFSETFROM:+0000
TZOFFSETTO:+0000
TZNAME:UTC
DTSTART:20260101T000000
END:STANDARD
END:VTIMEZONE
BEGIN:VEVENT
DTSTART;TZID=UTC:20271108T160000
DTEND;TZID=UTC:20271112T090000
DTSTAMP:20260420T174052
CREATED:20260410T134900Z
LAST-MODIFIED:20260414T141126Z
UID:61664-1825689600-1826010000@iona.org.uk
SUMMARY:Stillness in Community (Mon-Fri\, 4 nights)
DESCRIPTION:[vc_row][vc_column][vc_column_text css=””]\n\nStillness in Community. \nJoin us for some days of gentle\, stilling contemplative practices in the beauty of an Iona winter. \nDuring the Stillness in Community Weeks\, each guest will have their own room\, offering a peaceful space for personal reflection and quiet contemplation. Not a completely silent week. Sharing community meals\, work\, and worship. \nWe look forward to welcoming you to a Stillness in Community Week at Iona Abbey in 2027. \n  \n\n\n  \nCosts:  \n4 Nights: £640 per adult\, £320 concession. \n\n\n[/vc_column_text][/vc_column][/vc_row][vc_row][vc_column][vc_btn title=”Book Here” style=”custom” custom_text=”#666666″ css=”” link=”url:https%3A%2F%2Fbooking-directly.com%2Fwidgets%2FZ8ayvaEvw2SsrbCpGHLzeQZxQGqxQJy163aSHXVJnHbgCb53vffml4WKihlt5%2Fproperties%2Funit-selection%3Fsearch_stay_dates%3D%257B%2522checkInDate%2522%253A%25222027-11-08%2522%252C%2522checkOutDate%2522%253A%25222027-11-12%2522%257D%26search_occupancies%3D%255B%257B%2522numberOfAdults%2522%253A2%252C%2522children%2522%253A%255B%255D%257D%255D|target:_blank|rel:nofollow” el_class=”tealbtn generalbtn”][vc_btn title=”Essential Booking Information” style=”custom” custom_text=”#666666″ css=”” link=”url:https%3A%2F%2Fiona.org.uk%2Fvisit-and-stay%2Fiona-abbey-essential-booking-information-2026%2F|target:_blank” el_class=”tealoutlinebtn generalbtn rightbtn”][/vc_column][/vc_row][vc_row][vc_column][/vc_column][/vc_row][vc_row][vc_column][vc_column_text][/vc_column_text][/vc_column][/vc_row][vc_row][vc_column][/vc_column][/vc_row][vc_row][vc_column][/vc_column][/vc_row][vc_row][vc_column][/vc_column][/vc_row]
URL:https://iona.org.uk/event/stillness-in-community-3/
LOCATION:Iona Abbey Centre\, Isle of Iona\, United Kingdom
CATEGORIES:Iona Abbey Programme 2027
ATTACH;FMTTYPE=image/png:https://iona.org.uk/wp-content/uploads/2026/03/1-1.png
END:VEVENT
END:VCALENDAR